BEGIN:VCALENDAR
VERSION:2.0
PRODID:-//Eventin//Event Calendar//EN
CALSCALE:GREGORIAN
METHOD:PUBLISH
BEGIN:VEVENT
UID:a5dfefbc74eb28befb83b604f36da6d2@parpagroup.com
SUMMARY:Quaterly Meetings – September
DESCRIPTION:September 3rd\, 2026. \n\n\n\nThursdays - arrive by 11am start
 s 12 noon.\n\n\n\nKnights of Columbus\, 54 HWY 35N\, Keyport.
LOCATION:Knights of Columbus\, 54 HWY 35N\, Keyport
DTSTAMP:20260423T143508Z
DTSTART:20260903T150000Z
DTEND:20260903T210000Z
END:VEVENT
END:VCALENDAR
