BEGIN:VCALENDAR
VERSION:2.0
PRODID:-//Eventin//Event Calendar//EN
CALSCALE:GREGORIAN
METHOD:PUBLISH
BEGIN:VEVENT
UID:fefe85dc11f53da6f6e6039e945887f9@parpagroup.com
SUMMARY:Quaterly Meetings – June
DESCRIPTION: \nJune 4th\, 2026. \nThursdays - arrive by 11am starts 12 no
 on.\nKnights of Columbus\, 54 HWY 35N\, Keyport.
LOCATION:Knights of Columbus\, 54 HWY 35N\, Keyport
DTSTAMP:20260423T141402Z
DTSTART:20260604T150000Z
DTEND:20260604T210000Z
END:VEVENT
END:VCALENDAR
