BEGIN:VCALENDAR
VERSION:2.0
PRODID:-//Eventin//Event Calendar//EN
CALSCALE:GREGORIAN
METHOD:PUBLISH
BEGIN:VEVENT
UID:47f895298f2ff73369f71f3c28a58272@parpagroup.com
SUMMARY:Christmas/Holiday Party
DESCRIPTION: \nChristmas/Holiday Party - Dec. 3\, 2026Thursday\, 3pm to 8p
 m (Note time change)The Fiesta\, 255 Rt 17 South\, Wood-Ridge\, NJ
LOCATION:The Fiesta\, 255 Rt 17 South\, Wood-Ridge\, NJ
DTSTAMP:20260423T144133Z
DTSTART:20261203T200000Z
DTEND:20261204T010000Z
END:VEVENT
END:VCALENDAR
