BEGIN:VCALENDAR
VERSION:2.0
PRODID:-//Eventin//Event Calendar//EN
CALSCALE:GREGORIAN
METHOD:PUBLISH
BEGIN:VEVENT
UID:39de886b267fd009852e125190ecc200@parpagroup.com
SUMMARY:Summer Picnic
DESCRIPTION: \nSummer Picnic - July 30\, 2026Thursday\, 12 noon to 6pOaktr
 ee Lodge\, 1412 Schoolhouse Rd.\, Wall\, NJ
LOCATION:Oaktree Lodge\, 1412 Schoolhouse Rd.\, Wall\, NJ
DTSTAMP:20260423T143654Z
DTSTART:20260730T160000Z
DTEND:20260730T220000Z
END:VEVENT
END:VCALENDAR
