BEGIN:VCALENDAR
VERSION:2.0
PRODID:-//Eventin//Event Calendar//EN
CALSCALE:GREGORIAN
METHOD:PUBLISH
BEGIN:VEVENT
UID:b74eefc1db4e0692472deb226ca3e838@parpagroup.com
SUMMARY:Day at The Race
DESCRIPTION: \nDay at The Race - May 30\, 2026Saturday - 12 noon to 6pm\, 
 Grove #11Monmouth Racetrack\, 175 Oceanport Ave\, NJ
LOCATION:Monmouth Racetrack\, 175 Oceanport Ave\, NJ
DTSTAMP:20260423T143507Z
DTSTART:20260530T160000Z
DTEND:20260530T220000Z
END:VEVENT
END:VCALENDAR
