BEGIN:VCALENDAR
VERSION:2.0
PRODID:-//Eventin//Event Calendar//EN
CALSCALE:GREGORIAN
METHOD:PUBLISH
BEGIN:VEVENT
UID:4c85c2c590f558d6ba6abf85c4f3fe32@parpagroup.com
SUMMARY:Fishing Charter
DESCRIPTION: \nFishing Charter - May 20\, 2026Wednesday - Departs Dock “
 J” at 7am\, return 2pm905 HWY 35 South\, Belmar\, NJ
LOCATION:905 HWY 35 South\, Belmar\, NJ
DTSTAMP:20260423T142720Z
DTSTART:20260520T110000Z
DTEND:20260520T180000Z
END:VEVENT
END:VCALENDAR
